BEGIN:VCALENDAR
VERSION:2.0
PRODID:-//Stannek GmbH - ECPv6.15.20//NONSGML v1.0//EN
CALSCALE:GREGORIAN
METHOD:PUBLISH
X-WR-CALNAME:Stannek GmbH
X-ORIGINAL-URL:https://stannek-gmbh.com
X-WR-CALDESC:Veranstaltungen für Stannek GmbH
REFRESH-INTERVAL;VALUE=DURATION:PT1H
X-Robots-Tag:noindex
X-PUBLISHED-TTL:PT1H
BEGIN:VTIMEZONE
TZID:Europe/Paris
BEGIN:DAYLIGHT
TZOFFSETFROM:+0100
TZOFFSETTO:+0200
TZNAME:CEST
DTSTART:20240331T010000
END:DAYLIGHT
BEGIN:STANDARD
TZOFFSETFROM:+0200
TZOFFSETTO:+0100
TZNAME:CET
DTSTART:20241027T010000
END:STANDARD
BEGIN:DAYLIGHT
TZOFFSETFROM:+0100
TZOFFSETTO:+0200
TZNAME:CEST
DTSTART:20250330T010000
END:DAYLIGHT
BEGIN:STANDARD
TZOFFSETFROM:+0200
TZOFFSETTO:+0100
TZNAME:CET
DTSTART:20251026T010000
END:STANDARD
BEGIN:DAYLIGHT
TZOFFSETFROM:+0100
TZOFFSETTO:+0200
TZNAME:CEST
DTSTART:20260329T010000
END:DAYLIGHT
BEGIN:STANDARD
TZOFFSETFROM:+0200
TZOFFSETTO:+0100
TZNAME:CET
DTSTART:20261025T010000
END:STANDARD
BEGIN:DAYLIGHT
TZOFFSETFROM:+0100
TZOFFSETTO:+0200
TZNAME:CEST
DTSTART:20270328T010000
END:DAYLIGHT
BEGIN:STANDARD
TZOFFSETFROM:+0200
TZOFFSETTO:+0100
TZNAME:CET
DTSTART:20271031T010000
END:STANDARD
END:VTIMEZONE
BEGIN:VEVENT
DTSTART;TZID=Europe/Paris:20260212T090000
DTEND;TZID=Europe/Paris:20260212T120000
DTSTAMP:20260419T173600
CREATED:20260130T124552Z
LAST-MODIFIED:20260204T155555Z
UID:10000157-1770886800-1770897600@stannek-gmbh.com
SUMMARY:Stannek Lohnsnack - NextLevel Lohnprozess: Businessfrühstück für Steuerberater
DESCRIPTION:Digitale Lösungen verändern die Art und Weise\, wie Lohnprozesse zwischen Kanzlei und Mandant ablaufen – und schaffen echte Mehrwerte auf beiden Seiten. Beim Businessfrühstück „NextLevel Lohnprozess“ zeigen wir\, wie moderne HR- und Lohnsysteme die Zusammenarbeit auf ein neues Level heben und welche Rolle DATEV Personal dabei spielt. \nEin besonderer Schwerpunkt liegt auf der gesetzlich geforderten Arbeitszeiterfassung: Unternehmen müssen Beginn\, Ende und Dauer der täglichen Arbeitszeit systematisch erfassen. Digitale Lohn- und HR-Lösungen bieten rechtssichere\, praxisnahe Ansätze\, die sowohl Mandanten als auch Kanzleien entlasten. \nDas erwartet Sie: \n\nAktuelle gesetzliche Anforderungen zur Arbeitszeiterfassung und praxisnahe Umsetzung\nFactorial HR als digitale Zeiterfassungs- und HR-Plattform beim Mandanten\nMehrwerte für Steuerberater: strukturierte\, saubere und aktuelle Personaldaten\nOptimierte Zusammenarbeit zwischen Kanzlei und Mandant durch digitale HR- und Lohnprozesse\nSchnittstellen und Rollen im Vergleich zu DATEV Personal\nPraxisbeispiele aus dem Mandantenumfeld\n\nIhr Mehrwert als Steuerberater: \n\nWeniger Rückfragen und manuelle Nacharbeit bei Lohn- und Personalthemen\nBessere Datenqualität für Lohn- und Gehaltsabrechnungen\nStärkung Ihrer beratenden Rolle gegenüber Mandanten\nZukunftssichere Aufstellung bei HR- und Compliance-Themen\n\nFür wen?Steuerberaterinnen und Steuerberater\, die \n\nMandanten bei der Einführung digitaler HR- und Zeiterfassungssysteme begleiten\nrechtssicher aufgestellt sein möchten\nihre Kanzlei als modernen\, proaktiven Ansprechpartner positionieren wollen\n\nFormat:Businessfrühstück mit kompaktem Fachinput\, praxisnahem Austausch und Networking in entspannter Atmosphäre. \nBringen Sie den Lohnprozess mit Ihren Mandanten auf das NextLevel – effizient\, digital und partnerschaftlich.
URL:https://stannek-gmbh.com/event/stannek-businessfruehstueck-nextlevel-hr-management/
LOCATION:Stannek GmbH\, Heganger 16\, Hallstadt\, Bayern\, 96103\, Germany
CATEGORIES:Anmeldung erforderlich,kostenfrei,Präsenzveranstaltung
ATTACH;FMTTYPE=image/png:https://stannek-gmbh.com/wp-content/uploads/2026/01/ChatGPT-Image-16.-Jan.-2026-11_31_50.png
ORGANIZER;CN="Stannek GmbH":MAILTO:mail@stannek-gmbh.com
END:VEVENT
BEGIN:VEVENT
DTSTART;TZID=Europe/Paris:20260128T090000
DTEND;TZID=Europe/Paris:20260128T120000
DTSTAMP:20260419T173600
CREATED:20260116T093646Z
LAST-MODIFIED:20260120T144121Z
UID:10000144-1769590800-1769601600@stannek-gmbh.com
SUMMARY:Stannek Business-Frühstück mit nyx
DESCRIPTION:Die Zukunft der Steuerberatung – automatisiert\, effizient\, zukunftssicher \nDigitalisierung\, Automatisierung\, RPA\, Künstliche Intelligenz – Schlagworte\, die die Steuerberatung längst erreicht haben. Doch was bedeuten sie konkret für den Kanzleialltag? Und wie können sie helfen\, den wachsenden Herausforderungen der Branche wirksam zu begegnen? \nBeim Stannek Business-Frühstück mit nyx automation erfahren Sie\, warum intelligente Prozessautomatisierung in der Steuerkanzlei nicht nur sinnvoll\, sondern entscheidend für nachhaltigen Erfolg ist. Gemeinsam werfen wir einen Blick auf die Zukunft der Steuerberatung und zeigen praxisnah\, wie Automatisierung echte Entlastung schafft. \nDie Steuerberatungs- und Wirtschaftsprüfungsbranche gehört laut ifo-Institut zu den Dienstleistungsbranchen mit dem höchsten Fachkräftemangel. Die Folgen sind spürbar: Umsatzeinbußen\, abgelehnte Neumandate und im Extremfall sogar die Trennung von bestehenden Mandaten\, um mit knappen personellen Ressourcen handlungsfähig zu bleiben. \nHier setzt nyx automation an: Automatisierungslösungen unterstützen Kanzleiteams gezielt im Tagesgeschäft. Der digitale „Roboterkollege“ übernimmt repetitive\, zeitintensive Aufgaben – zuverlässig\, schnell und kosteneffizient. So gewinnen Mitarbeiterinnen und Mitarbeiter wertvolle Zeit für anspruchsvolle Tätigkeiten\, bei denen Fachwissen\, Erfahrung und menschlicher Verstand unverzichtbar sind. \nErleben Sie bei einem entspannten Frühstück\, wie moderne Automatisierung Ihre Kanzlei entlastet\, Prozesse optimiert und langfristige Zukunftssicherheit schafft. \nmax. 24 Plätze verfügbar. Sollten Sie nicht kommen können bitten wir um Absage bzw. Ticketstorno.
URL:https://stannek-gmbh.com/event/stannek-business-fruehstueck-mit-nyx/
LOCATION:Stannek GmbH\, Heganger 16\, Hallstadt\, Bayern\, 96103\, Germany
CATEGORIES:Anmeldung erforderlich,kostenfrei,Präsenzveranstaltung
ATTACH;FMTTYPE=image/png:https://stannek-gmbh.com/wp-content/uploads/2026/01/ChatGPT-Image-16.-Jan.-2026-11_31_50.png
ORGANIZER;CN="Stannek GmbH":MAILTO:mail@stannek-gmbh.com
END:VEVENT
BEGIN:VEVENT
DTSTART;TZID=Europe/Paris:20260107T093000
DTEND;TZID=Europe/Paris:20260107T095000
DTSTAMP:20260419T173600
CREATED:20260121T091408Z
LAST-MODIFIED:20260121T091410Z
UID:10000145-1767778200-1767779400@stannek-gmbh.com
SUMMARY:DIGI-News @ Stannek
DESCRIPTION:
URL:https://stannek-gmbh.com/event/digi-news-stannek-2/
LOCATION:Webinarsoftware – Online\, Germany
ORGANIZER;CN="Stannek GmbH":MAILTO:mail@stannek-gmbh.com
END:VEVENT
BEGIN:VEVENT
DTSTART;TZID=Europe/Paris:20251106T100000
DTEND;TZID=Europe/Paris:20251106T110000
DTSTAMP:20260419T173600
CREATED:20251013T104945Z
LAST-MODIFIED:20251013T105940Z
UID:10000090-1762423200-1762426800@stannek-gmbh.com
SUMMARY:Honorarpolitik und Preisstrategie für Steuerkanzleien
DESCRIPTION:
URL:https://stannek-gmbh.com/event/honorarpolitik-und-preisstrategie-fuer-steuerkanzleien/
LOCATION:Webinarsoftware – Online\, Germany
CATEGORIES:Anmeldung erforderlich,kostenfrei,Onlineveranstaltung
ORGANIZER;CN="Stannek GmbH":MAILTO:mail@stannek-gmbh.com
END:VEVENT
BEGIN:VEVENT
DTSTART;TZID=Europe/Paris:20251024T100000
DTEND;TZID=Europe/Paris:20251024T120000
DTSTAMP:20260419T173600
CREATED:20250808T075140Z
LAST-MODIFIED:20250808T112942Z
UID:10000005-1761300000-1761307200@stannek-gmbh.com
SUMMARY:DIGI-Week feat. DATEV IT-Club Herbstrunde 2025
DESCRIPTION:Der IT-Club – Ihr Zugang zu aktuellen DATEV-Themen und Markttrends \nIm IT-Club erhalten Sie einen schnellen und umfassenden Überblick über die neuesten Entwicklungen rund um DATEV sowie relevante Markttrends. Die Veranstaltung bietet Ihnen eine wertvolle Plattform für den Austausch mit Kolleginnen und Kollegen aus anderen Kanzleien und ermöglicht Ihnen direkten Kontakt zu DATEV\, Solution Partnern und Marktplatz Partnern – ganz im Sinne eines aktiven Partnerings. \nNeben spannenden Impulsen für Ihre tägliche Arbeit profitieren Sie von interaktiven Elementen wie Echtzeitumfragen\, die Ihre Meinung und Erfahrungen aktiv einbeziehen. Die Teilnahme am IT-Club ist kostenfrei und richtet sich exklusiv an DATEV-Mitglieder sowie deren Mitarbeiterinnen und Mitarbeiter in Kanzleien. Vorkenntnisse sind nicht erforderlich – alle Interessierten sind herzlich willkommen.
URL:https://stannek-gmbh.com/event/digi-week-feat-datev-it-club-herbstrunde-2025/
LOCATION:Webinarsoftware – Online\, Germany
CATEGORIES:Anmeldung erforderlich,Onlineveranstaltung
ORGANIZER;CN="Stannek GmbH":MAILTO:mail@stannek-gmbh.com
END:VEVENT
BEGIN:VEVENT
DTSTART;TZID=Europe/Paris:20251024T090000
DTEND;TZID=Europe/Paris:20251024T120000
DTSTAMP:20260419T173600
CREATED:20250207T073605Z
LAST-MODIFIED:20250808T121653Z
UID:10000015-1761296400-1761307200@stannek-gmbh.com
SUMMARY:DIGI-Week 2025
DESCRIPTION:„Mit Highspeed in die Zukunft“ – dieses Motto haben wir der diesjährigen Digi-Week vorangestellt.  \nEs könnte aber auch heißen: „Mit Highspeed in der Gegenwart“. So schnell wie sich die Welt gerade dreht\, sich überall Umbrüche zeigen\, wo sie niemand erwartet hatte\, der digitale Fortschritt überproportional stark unsere Ressourcen und Aufmerksamkeiten bindet\, da ist für Viele einfach zu viel Geschwindigkeit drin. Die Zeit\, um notwendige Umstellungen überlegt\, und in kleinen Schritten nach und nach umzusetzen\, wird immer knapper. \nWir wollen mit unseren diesjährigen Webinaren Ihnen die Informationen geben\, die Sie brauchen\, um entspannt in die Zukunft blicken zu können: Werkzeuge und Instrumente\, die für einen digital unterstützten Kanzleialltag unverzichtbar sind. Und damit die Prozesse ans Laufen bringen\, die durch Automatismen Ihnen und Ihren Mitarbeitern den Arbeitsalltag erleichtern. \nWir bitten um eine Anmeldung unter der Website www.digi-week.online \nNach der Anmeldung erhalten Sie automatisch die Zugangsdaten zu den von Ihnen ausgewählten Sessions
URL:https://stannek-gmbh.com/event/digi-week-2025/2025-10-24/
LOCATION:Webinarsoftware – Online\, Germany
CATEGORIES:Anmeldung erforderlich,Onlineveranstaltung
ATTACH;FMTTYPE=image/png:https://stannek-gmbh.com/wp-content/uploads/2025/01/Main-DIGI-Week-2023-24web-2580x1337-1.png
ORGANIZER;CN="Stannek GmbH":MAILTO:mail@stannek-gmbh.com
END:VEVENT
BEGIN:VEVENT
DTSTART;TZID=Europe/Paris:20251023T090000
DTEND;TZID=Europe/Paris:20251023T160000
DTSTAMP:20260419T173600
CREATED:20250207T073605Z
LAST-MODIFIED:20250808T121653Z
UID:10000014-1761210000-1761235200@stannek-gmbh.com
SUMMARY:DIGI-Week 2025
DESCRIPTION:„Mit Highspeed in die Zukunft“ – dieses Motto haben wir der diesjährigen Digi-Week vorangestellt.  \nEs könnte aber auch heißen: „Mit Highspeed in der Gegenwart“. So schnell wie sich die Welt gerade dreht\, sich überall Umbrüche zeigen\, wo sie niemand erwartet hatte\, der digitale Fortschritt überproportional stark unsere Ressourcen und Aufmerksamkeiten bindet\, da ist für Viele einfach zu viel Geschwindigkeit drin. Die Zeit\, um notwendige Umstellungen überlegt\, und in kleinen Schritten nach und nach umzusetzen\, wird immer knapper. \nWir wollen mit unseren diesjährigen Webinaren Ihnen die Informationen geben\, die Sie brauchen\, um entspannt in die Zukunft blicken zu können: Werkzeuge und Instrumente\, die für einen digital unterstützten Kanzleialltag unverzichtbar sind. Und damit die Prozesse ans Laufen bringen\, die durch Automatismen Ihnen und Ihren Mitarbeitern den Arbeitsalltag erleichtern. \nWir bitten um eine Anmeldung unter der Website www.digi-week.online \nNach der Anmeldung erhalten Sie automatisch die Zugangsdaten zu den von Ihnen ausgewählten Sessions
URL:https://stannek-gmbh.com/event/digi-week-2025/2025-10-23/
LOCATION:Webinarsoftware – Online\, Germany
CATEGORIES:Anmeldung erforderlich,Onlineveranstaltung
ATTACH;FMTTYPE=image/png:https://stannek-gmbh.com/wp-content/uploads/2025/01/Main-DIGI-Week-2023-24web-2580x1337-1.png
ORGANIZER;CN="Stannek GmbH":MAILTO:mail@stannek-gmbh.com
END:VEVENT
BEGIN:VEVENT
DTSTART;TZID=Europe/Paris:20251022T090000
DTEND;TZID=Europe/Paris:20251022T160000
DTSTAMP:20260419T173600
CREATED:20250207T073605Z
LAST-MODIFIED:20250808T121653Z
UID:10000013-1761123600-1761148800@stannek-gmbh.com
SUMMARY:DIGI-Week 2025
DESCRIPTION:„Mit Highspeed in die Zukunft“ – dieses Motto haben wir der diesjährigen Digi-Week vorangestellt.  \nEs könnte aber auch heißen: „Mit Highspeed in der Gegenwart“. So schnell wie sich die Welt gerade dreht\, sich überall Umbrüche zeigen\, wo sie niemand erwartet hatte\, der digitale Fortschritt überproportional stark unsere Ressourcen und Aufmerksamkeiten bindet\, da ist für Viele einfach zu viel Geschwindigkeit drin. Die Zeit\, um notwendige Umstellungen überlegt\, und in kleinen Schritten nach und nach umzusetzen\, wird immer knapper. \nWir wollen mit unseren diesjährigen Webinaren Ihnen die Informationen geben\, die Sie brauchen\, um entspannt in die Zukunft blicken zu können: Werkzeuge und Instrumente\, die für einen digital unterstützten Kanzleialltag unverzichtbar sind. Und damit die Prozesse ans Laufen bringen\, die durch Automatismen Ihnen und Ihren Mitarbeitern den Arbeitsalltag erleichtern. \nWir bitten um eine Anmeldung unter der Website www.digi-week.online \nNach der Anmeldung erhalten Sie automatisch die Zugangsdaten zu den von Ihnen ausgewählten Sessions
URL:https://stannek-gmbh.com/event/digi-week-2025/2025-10-22/
LOCATION:Webinarsoftware – Online\, Germany
CATEGORIES:Anmeldung erforderlich,Onlineveranstaltung
ATTACH;FMTTYPE=image/png:https://stannek-gmbh.com/wp-content/uploads/2025/01/Main-DIGI-Week-2023-24web-2580x1337-1.png
ORGANIZER;CN="Stannek GmbH":MAILTO:mail@stannek-gmbh.com
END:VEVENT
BEGIN:VEVENT
DTSTART;TZID=Europe/Paris:20251021T090000
DTEND;TZID=Europe/Paris:20251021T160000
DTSTAMP:20260419T173600
CREATED:20250207T073605Z
LAST-MODIFIED:20250808T121653Z
UID:10000009-1761037200-1761062400@stannek-gmbh.com
SUMMARY:DIGI-Week 2025
DESCRIPTION:„Mit Highspeed in die Zukunft“ – dieses Motto haben wir der diesjährigen Digi-Week vorangestellt.  \nEs könnte aber auch heißen: „Mit Highspeed in der Gegenwart“. So schnell wie sich die Welt gerade dreht\, sich überall Umbrüche zeigen\, wo sie niemand erwartet hatte\, der digitale Fortschritt überproportional stark unsere Ressourcen und Aufmerksamkeiten bindet\, da ist für Viele einfach zu viel Geschwindigkeit drin. Die Zeit\, um notwendige Umstellungen überlegt\, und in kleinen Schritten nach und nach umzusetzen\, wird immer knapper. \nWir wollen mit unseren diesjährigen Webinaren Ihnen die Informationen geben\, die Sie brauchen\, um entspannt in die Zukunft blicken zu können: Werkzeuge und Instrumente\, die für einen digital unterstützten Kanzleialltag unverzichtbar sind. Und damit die Prozesse ans Laufen bringen\, die durch Automatismen Ihnen und Ihren Mitarbeitern den Arbeitsalltag erleichtern. \nWir bitten um eine Anmeldung unter der Website www.digi-week.online \nNach der Anmeldung erhalten Sie automatisch die Zugangsdaten zu den von Ihnen ausgewählten Sessions
URL:https://stannek-gmbh.com/event/digi-week-2025/2025-10-21/
LOCATION:Webinarsoftware – Online\, Germany
CATEGORIES:Anmeldung erforderlich,Onlineveranstaltung
ATTACH;FMTTYPE=image/png:https://stannek-gmbh.com/wp-content/uploads/2025/01/Main-DIGI-Week-2023-24web-2580x1337-1.png
ORGANIZER;CN="Stannek GmbH":MAILTO:mail@stannek-gmbh.com
END:VEVENT
BEGIN:VEVENT
DTSTART;TZID=Europe/Paris:20251007T140000
DTEND;TZID=Europe/Paris:20251007T170000
DTSTAMP:20260419T173600
CREATED:20250808T071508Z
LAST-MODIFIED:20250808T122134Z
UID:10000007-1759845600-1759856400@stannek-gmbh.com
SUMMARY:DATEV IT-Club online Süd
DESCRIPTION:Der IT-Club – Ihr Zugang zu aktuellen DATEV-Themen und Markttrends \nIm IT-Club erhalten Sie einen schnellen und umfassenden Überblick über die neuesten Entwicklungen rund um DATEV sowie relevante Markttrends. Die Veranstaltung bietet Ihnen eine wertvolle Plattform für den Austausch mit Kolleginnen und Kollegen aus anderen Kanzleien und ermöglicht Ihnen direkten Kontakt zu DATEV\, Solution Partnern und Marktplatz Partnern – ganz im Sinne eines aktiven Partnerings. \nNeben spannenden Impulsen für Ihre tägliche Arbeit profitieren Sie von interaktiven Elementen wie Echtzeitumfragen\, die Ihre Meinung und Erfahrungen aktiv einbeziehen. Die Teilnahme am IT-Club ist kostenfrei und richtet sich exklusiv an DATEV-Mitglieder sowie deren Mitarbeiterinnen und Mitarbeiter in Kanzleien. Vorkenntnisse sind nicht erforderlich – alle Interessierten sind herzlich willkommen.
URL:https://stannek-gmbh.com/event/datev-it-club-online/
LOCATION:Webinarsoftware – Online\, Germany
CATEGORIES:DATEV,Onlineveranstaltung
ATTACH;FMTTYPE=image/png:https://stannek-gmbh.com/wp-content/uploads/2025/01/DATEV-Logo_A4_RGB_Kachel.png
END:VEVENT
BEGIN:VEVENT
DTSTART;TZID=Europe/Paris:20250929T090000
DTEND;TZID=Europe/Paris:20250929T094500
DTSTAMP:20260419T173600
CREATED:20250812T125308Z
LAST-MODIFIED:20250812T125308Z
UID:10000016-1759136400-1759139100@stannek-gmbh.com
SUMMARY:E-Rechnung & DATEV Unternehmen online: So sparen Sie jetzt Zeit und jede Menge Nerven!!
DESCRIPTION:Ab 2025 wird die E-Rechnung Pflicht – sind Sie bereit? In diesem kompakten Online-Seminar zeigen wir Ihnen\, wie Sie mit DATEV Unternehmen online E-Rechnungen rechtssicher erstellen\, versenden und archivieren. Erfahren Sie die besten Tipps und Tricks\, um die Buchhaltung zu digitalisieren\, Fehler zu vermeiden und wertvolle Zeit zu sparen. Perfekt für Steuerkanzleien\, die jetzt den digitalen Vorsprung sichern wollen.
URL:https://stannek-gmbh.com/event/e-rechnung-datev-unternehmen-online-so-sparen-sie-jetzt-zeit-und-jede-menge-nerven/
LOCATION:Webinarsoftware – Online\, Germany
CATEGORIES:Anmeldung erforderlich,Onlineveranstaltung
ORGANIZER;CN="Stannek GmbH":MAILTO:mail@stannek-gmbh.com
END:VEVENT
BEGIN:VEVENT
DTSTART;TZID=Europe/Paris:20250812T090000
DTEND;TZID=Europe/Paris:20250812T160000
DTSTAMP:20260419T173600
CREATED:20250812T133708Z
LAST-MODIFIED:20250812T134421Z
UID:10000020-1754989200-1755014400@stannek-gmbh.com
SUMMARY:DIGI-Day 2026 @ Stannek GmbH
DESCRIPTION:
URL:https://stannek-gmbh.com/event/digi-day-2026-stannek-gmbh/
LOCATION:Stannek GmbH\, Heganger 16\, Hallstadt\, Bayern\, 96103\, Germany
ORGANIZER;CN="Stannek GmbH":MAILTO:mail@stannek-gmbh.com
END:VEVENT
BEGIN:VEVENT
DTSTART;TZID=Europe/Paris:20250512T140000
DTEND;TZID=Europe/Paris:20250512T170000
DTSTAMP:20260419T173600
CREATED:20250205T094121Z
LAST-MODIFIED:20250205T221736Z
UID:10000001-1747058400-1747069200@stannek-gmbh.com
SUMMARY:DATEV IT-Club Frühjahr 2025
DESCRIPTION:Ohne Anmeldung über den Anmeldelink ist keine Teilnahme möglich. \nMaximale Teilnehmeranzahl: 25 Personen
URL:https://stannek-gmbh.com/event/datev-it-club-fruehjahr-2025/
LOCATION:Stannek GmbH\, Heganger 16\, Hallstadt\, Bayern\, 96103\, Germany
CATEGORIES:DATEV,Präsenzveranstaltung
ATTACH;FMTTYPE=image/jpeg:https://stannek-gmbh.com/wp-content/uploads/2025/01/AdobeStock_295633293-scaled-1-1.jpeg
END:VEVENT
END:VCALENDAR